BEGIN:VCALENDAR
TZID:
BEGIN:VEVENT
CLASS:PUBLIC
CREATED:20260422T102736
DESCRIPTION:<div class="fusion-text fusion-text-2">\n\n<strong>RIFLE SKILL BUILDER 1</strong>\n\n<strong> </strong>\n\nMuch like our Pistol Skill Builder 1 class, this course is a basic introduction to rifles, covering semi-automatic rifles and carbines, common types of ammunition, and the fundamentals of marksmanship.\n\nOur instructors will explain all parts and functionality of a rifle. Students will learn proper terminology, nomenclature and the fundamentals of Platform, Grip, Sights and Trigger.\n\nAfter a brief classroom instruction, students will hit the range and begin taking part in some basic rifle shooting drills, all done under the supervision of one of our FTS instructors. After the range portion, we will go back in the classroom to cover maintenance and recommendations.\n\nThis is the perfect class for new rifle shooters, or for the individual that hasn’t shot their rifle in some time, and wants to get reacquainted with proper shooting skills. If you are interested in eventually taking one of our more advanced tactical rifle courses, this is where you start.\n\nAfter completion of the class, students will be able to load a magazine and apply the fundamentals of rifle marksmanship and be able to zero a rifle at 25 yards.\n\n* If you do not have your own rifle, please let us know ahead of time.\n\n</div>\n<strong>Cost: $175, a $75 deposit is required to secure your spot in the class. Balance is due in class, cash preferred, check, PayPal or Venmo accepted.</strong>
DTEND:20250626T203000Z
DTSTAMP:20260422T102736
DTSTART:20250626T173000
LAST-MODIFIED:20091109T101015
LOCATION:Mansfield Fish & Game, 510 East Street , Mansfield, MA, 02048
SUMMARY;LANGUAGE=en-us:Beginner Rifle Course 6/26/2025.
BEGIN:VALARM
TRIGGER:-PT1440M
ACTION:DISPLAY
DESCRIPTION:Reminder
END:VALARM
END:VEVENT
END:VCALENDAR
